BEGIN:VCALENDAR
VERSION:2.0
PRODID:-//Indiana Wildlife Federation - ECPv6.15.20//NONSGML v1.0//EN
CALSCALE:GREGORIAN
METHOD:PUBLISH
X-ORIGINAL-URL:https://indianawildlife.org
X-WR-CALDESC:Events for Indiana Wildlife Federation
REFRESH-INTERVAL;VALUE=DURATION:PT1H
X-Robots-Tag:noindex
X-PUBLISHED-TTL:PT1H
BEGIN:VTIMEZONE
TZID:UTC
BEGIN:STANDARD
TZOFFSETFROM:+0000
TZOFFSETTO:+0000
TZNAME:UTC
DTSTART:20200101T000000
END:STANDARD
END:VTIMEZONE
BEGIN:VEVENT
DTSTART;VALUE=DATE:20210516
DTEND;VALUE=DATE:20210517
DTSTAMP:20260426T034449
CREATED:20210314T182840Z
LAST-MODIFIED:20210314T182840Z
UID:10000002-1621123200-1621209599@indianawildlife.org
SUMMARY:Endangered Species Day
DESCRIPTION:Tag us with your favorite threatened or endangered #indianawildlife species on National Endangered Species Day.
URL:https://indianawildlife.org/event/endangered-species-day/
CATEGORIES:Online/Social Media
ATTACH;FMTTYPE=image/jpeg:https://indianawildlife.org/wp-content/uploads/2021/02/Karner-Blue-Paul-Labus-TNC.jpg
END:VEVENT
END:VCALENDAR