BEGIN:VCALENDAR
VERSION:2.0
PRODID:-//Indiana Wildlife Federation - ECPv6.15.20//NONSGML v1.0//EN
CALSCALE:GREGORIAN
METHOD:PUBLISH
X-WR-CALNAME:Indiana Wildlife Federation
X-ORIGINAL-URL:https://indianawildlife.org
X-WR-CALDESC:Events for Indiana Wildlife Federation
REFRESH-INTERVAL;VALUE=DURATION:PT1H
X-Robots-Tag:noindex
X-PUBLISHED-TTL:PT1H
BEGIN:VTIMEZONE
TZID:UTC
BEGIN:STANDARD
TZOFFSETFROM:+0000
TZOFFSETTO:+0000
TZNAME:UTC
DTSTART:20200101T000000
END:STANDARD
END:VTIMEZONE
BEGIN:VEVENT
DTSTART;TZID=UTC:20211107T133000
DTEND;TZID=UTC:20211107T153000
DTSTAMP:20260424T003318
CREATED:20210913T182814Z
LAST-MODIFIED:20210927T184817Z
UID:10000027-1636291800-1636299000@indianawildlife.org
SUMMARY:Monarchs in a Changing World: How These Butterflies Bring Us Together\, part of the Spirit & Place Festival
DESCRIPTION:Learn about monarch butterflies and the importance of conservation while helping complete a new mural. A partnership between CILTI\, Jefferson Art Studio and Indiana Wildlife Federation.\nMonarchs go through the ultimate change when they metamorphosize from caterpillar to chrysalis and finally the beloved butterfly we all recognize. Attendees will assist in the completion of a mural designed by local artist Megan Jefferson while learning how to help increase the population of monarch butterflies. We will discuss how the monarch is a flagship species that improves the visibility of other conservation goals. \nAll Ages \nFree of Charge – RSVP Required \nWhat to Expect and Bring \n• Weather permitting the event will take place outside\, please dress for the weather. \n• Face mask/cover required. \n• Wear closed-toed shoes. \n• Wear clothes you don’t mind getting dirty. \nDIRECTIONS: Oliver’s Woods is located at 8825 River Road Indianapolis\, Indiana. Please park in the parking lot adjacent to I-465 and meet staff on foot in front of the house. \nABOUT SPIRIT & PLACE: The Spirit & Place Festival (Nov. 4-14) celebrates the powerful role the arts\, humanities\, and religion play in community life and is housed in the IU School of Liberal Arts at IUPUI. Learn more at spiritandplace.org. \nQuestions? Contact 317-631-5263 or twillis@conservingindiana.org. \nWeather permitting\, this is an outdoor event and attendees are encouraged to dress appropriately for the weather and paint-based activities. Space is limited and registration is required by Nov. 5. This event will adhere to prevailing local guidance on COVID-19. Thoroughly read confirmation details sent by the host. \nREGISTER HERE.
URL:https://indianawildlife.org/event/monarchs-in-a-changing-world-how-these-butterflies-bring-us-together-part-of-the-spirit-place-festival/
CATEGORIES:IWF Event,Monarch,Partner Event
ATTACH;FMTTYPE=image/png:https://indianawildlife.org/wp-content/uploads/2021/09/Spiritandplace.png
END:VEVENT
END:VCALENDAR