BEGIN:VCALENDAR
VERSION:2.0
PRODID:-//Indiana Wildlife Federation - ECPv6.15.20//NONSGML v1.0//EN
CALSCALE:GREGORIAN
METHOD:PUBLISH
X-WR-CALNAME:Indiana Wildlife Federation
X-ORIGINAL-URL:https://indianawildlife.org
X-WR-CALDESC:Events for Indiana Wildlife Federation
REFRESH-INTERVAL;VALUE=DURATION:PT1H
X-Robots-Tag:noindex
X-PUBLISHED-TTL:PT1H
BEGIN:VTIMEZONE
TZID:UTC
BEGIN:STANDARD
TZOFFSETFROM:+0000
TZOFFSETTO:+0000
TZNAME:UTC
DTSTART:20220101T000000
END:STANDARD
END:VTIMEZONE
BEGIN:VEVENT
DTSTART;TZID=UTC:20230109T193000
DTEND;TZID=UTC:20230109T210000
DTSTAMP:20260421T141335
CREATED:20230109T174201Z
LAST-MODIFIED:20230109T174201Z
UID:10000054-1673292600-1673298000@indianawildlife.org
SUMMARY:Certified Wildlife Habitat Workshop
DESCRIPTION:The Certified Wildlife Habitat Workshop is a unique educational opportunity for individuals and families who are interested in protecting the natural beauty and local wildlife of Indiana. Program participants will learn about native plants and animals\, explore the links between their communities and larger ecosytems\, and discover how to create wild-life friendly habitats. The workshop will be presented by Indiana Wildlife Federation’s Habitat Programs Manager Aaron Stump.\n\n\nOur native species are best suited for the soil and weather conditions in Indiana and are the perfect plants to grow in your yard. They require no fertilizer\, no pesticides\, and less water than non-native species\, all while attracting and supporting Indiana’s wildlife. Aaron’s expertise in native plants and Indiana habitats will be a great resource for anyone interested in transforming their outdoor space into wildlife oasis.
URL:https://indianawildlife.org/event/certified-wildlife-habitat-workshop/
END:VEVENT
END:VCALENDAR