BEGIN:VCALENDAR
VERSION:2.0
PRODID:-//Indiana Wildlife Federation - ECPv6.15.20//NONSGML v1.0//EN
CALSCALE:GREGORIAN
METHOD:PUBLISH
X-ORIGINAL-URL:https://indianawildlife.org
X-WR-CALDESC:Events for Indiana Wildlife Federation
REFRESH-INTERVAL;VALUE=DURATION:PT1H
X-Robots-Tag:noindex
X-PUBLISHED-TTL:PT1H
BEGIN:VTIMEZONE
TZID:UTC
BEGIN:STANDARD
TZOFFSETFROM:+0000
TZOFFSETTO:+0000
TZNAME:UTC
DTSTART:20220101T000000
END:STANDARD
END:VTIMEZONE
BEGIN:VEVENT
DTSTART;TZID=UTC:20230120T090000
DTEND;TZID=UTC:20230124T150000
DTSTAMP:20260421T141559
CREATED:20230120T194052Z
LAST-MODIFIED:20230120T195549Z
UID:10000055-1674205200-1674572400@indianawildlife.org
SUMMARY:Indiana Conservation Alliance Conservation Day at the Statehouse
DESCRIPTION:Join the Indiana Wildlife Federation and INCA to Lobby Your Elected Officials\n\nSpeak out for our wild places\, natural areas and wildlife! Join us for our citizens’ lobby day in support of increased state investment in land\, water and wildlife conservation. Join your fellow Hoosiers in speaking with state legislators about the importance of conserving our forests\, parks\, wildlife habitats\, trails\, and waters.\nStatehouse North Atrium\, 3rd Floor\nIndianapolis\nMore info at www.indianaconservationalliance.org\n\nRegister Here!
URL:https://indianawildlife.org/event/indiana-conservation-alliance-conservation-day-at-the-statehouse/
LOCATION:Indiana Statehouse\, 200 W Washington St\, Indianapolis\, IN\, 46204\, United States
CATEGORIES:Partner Event
GEO:39.7687106;-86.1628562
X-APPLE-STRUCTURED-LOCATION;VALUE=URI;X-ADDRESS=Indiana Statehouse 200 W Washington St Indianapolis IN 46204 United States;X-APPLE-RADIUS=500;X-TITLE=200 W Washington St:geo:-86.1628562,39.7687106
END:VEVENT
END:VCALENDAR