BEGIN:VCALENDAR
VERSION:2.0
PRODID:-//Indiana Wildlife Federation - ECPv6.15.20//NONSGML v1.0//EN
CALSCALE:GREGORIAN
METHOD:PUBLISH
X-ORIGINAL-URL:https://indianawildlife.org
X-WR-CALDESC:Events for Indiana Wildlife Federation
REFRESH-INTERVAL;VALUE=DURATION:PT1H
X-Robots-Tag:noindex
X-PUBLISHED-TTL:PT1H
BEGIN:VTIMEZONE
TZID:UTC
BEGIN:STANDARD
TZOFFSETFROM:+0000
TZOFFSETTO:+0000
TZNAME:UTC
DTSTART:20240101T000000
END:STANDARD
END:VTIMEZONE
BEGIN:VEVENT
DTSTART;TZID=UTC:20250611T083000
DTEND;TZID=UTC:20250611T143000
DTSTAMP:20260422T020553
CREATED:20250610T205737Z
LAST-MODIFIED:20250610T205757Z
UID:10000131-1749630600-1749652200@indianawildlife.org
SUMMARY:Invasive Plant Workshop and Removal at Butler University
DESCRIPTION:****Private Event (Registered through Butler)**** \n  \nIWF staff will lead two groups on how to identify and remove invasive species in a native landscape. We will work with participants to explain the importance of maintaining native systems for wildlife and humans alike.
URL:https://indianawildlife.org/event/invasive-plant-workshop-and-removal-at-butler-university/
LOCATION:Butler University\, Sellick Bowl\, Indianapolis\, IN\, 46205\, United States
CATEGORIES:Partner Event,Workshop
END:VEVENT
END:VCALENDAR