BEGIN:VCALENDAR
VERSION:2.0
PRODID:-//Indiana Wildlife Federation - ECPv6.15.20//NONSGML v1.0//EN
CALSCALE:GREGORIAN
METHOD:PUBLISH
X-WR-CALNAME:Indiana Wildlife Federation
X-ORIGINAL-URL:https://indianawildlife.org
X-WR-CALDESC:Events for Indiana Wildlife Federation
REFRESH-INTERVAL;VALUE=DURATION:PT1H
X-Robots-Tag:noindex
X-PUBLISHED-TTL:PT1H
BEGIN:VTIMEZONE
TZID:UTC
BEGIN:STANDARD
TZOFFSETFROM:+0000
TZOFFSETTO:+0000
TZNAME:UTC
DTSTART:20240101T000000
END:STANDARD
END:VTIMEZONE
BEGIN:VEVENT
DTSTART;VALUE=DATE:20250621
DTEND;VALUE=DATE:20250622
DTSTAMP:20260422T020432
CREATED:20250513T155131Z
LAST-MODIFIED:20250513T155131Z
UID:10000129-1750464000-1750550399@indianawildlife.org
SUMMARY:Greenwood Nature Center Plant Sale and Workshop
DESCRIPTION:Join us and our friends at the Greenwood Nature Center\, Wild Ones\, and Native Plants Unlimited for a native plant sale and presentation on the value of planting native.
URL:https://indianawildlife.org/event/greenwood-nature-center-plant-sale-and-workshop/
LOCATION:Greenwood Nature Center\, South Washington Street\, Greenwood\, IN\, 46143\, United States
GEO:39.6129326;-86.1028278
X-APPLE-STRUCTURED-LOCATION;VALUE=URI;X-ADDRESS=Greenwood Nature Center South Washington Street Greenwood IN 46143 United States;X-APPLE-RADIUS=500;X-TITLE=South Washington Street:geo:-86.1028278,39.6129326
END:VEVENT
END:VCALENDAR