BEGIN:VCALENDAR
VERSION:2.0
PRODID:-//Indiana Wildlife Federation - ECPv6.15.20//NONSGML v1.0//EN
CALSCALE:GREGORIAN
METHOD:PUBLISH
X-ORIGINAL-URL:https://indianawildlife.org
X-WR-CALDESC:Events for Indiana Wildlife Federation
REFRESH-INTERVAL;VALUE=DURATION:PT1H
X-Robots-Tag:noindex
X-PUBLISHED-TTL:PT1H
BEGIN:VTIMEZONE
TZID:UTC
BEGIN:STANDARD
TZOFFSETFROM:+0000
TZOFFSETTO:+0000
TZNAME:UTC
DTSTART:20240101T000000
END:STANDARD
END:VTIMEZONE
BEGIN:VEVENT
DTSTART;TZID=UTC:20250717T180000
DTEND;TZID=UTC:20250717T200000
DTSTAMP:20260422T020509
CREATED:20250626T220353Z
LAST-MODIFIED:20250626T221242Z
UID:10000132-1752775200-1752782400@indianawildlife.org
SUMMARY:OHIO RIVER RESTORATION PLAN Indiana Public Engagement Session
DESCRIPTION:Come join the Indiana Wildlife Federation\, National Wildlife Federation\, and Ohio River Basin Alliance to learn about the Ohio River restoration plan. This ambitious plan lays out a framework for how federal funding can help transform this Ohio River basin\, an area that has for far too long been ignored. The Ohio River basin encompasses over 80% of the Hoosier state and for far too long we have ignored it. This plan is a major milestone in moving forward\, restoring this vast geographic area\, and improving life for humans and wildlife alike. We will discuss the plan\, future steps and how you can use your voice to help shape the future of the entire basin. We will be graciously hosted by the Sam Shine Foundation\, and drinks and light snacks will be provided. Registration is Required.
URL:https://indianawildlife.org/event/ohio-river-restoration-plan-indiana-public-engagement-session/
LOCATION:8771 Schuler Rd\, Greenville\, IN 47124\, 8771 Schuler Rd\, Greenville\, Indiana\, 47124
CATEGORIES:IWF Event,Partner Event
END:VEVENT
END:VCALENDAR