BEGIN:VCALENDAR
VERSION:2.0
PRODID:-//Indiana Wildlife Federation - ECPv6.15.20//NONSGML v1.0//EN
CALSCALE:GREGORIAN
METHOD:PUBLISH
X-ORIGINAL-URL:https://indianawildlife.org
X-WR-CALDESC:Events for Indiana Wildlife Federation
REFRESH-INTERVAL;VALUE=DURATION:PT1H
X-Robots-Tag:noindex
X-PUBLISHED-TTL:PT1H
BEGIN:VTIMEZONE
TZID:UTC
BEGIN:STANDARD
TZOFFSETFROM:+0000
TZOFFSETTO:+0000
TZNAME:UTC
DTSTART:20240101T000000
END:STANDARD
END:VTIMEZONE
BEGIN:VEVENT
DTSTART;TZID=UTC:20250905T080000
DTEND;TZID=UTC:20250905T170000
DTSTAMP:20260422T110755
CREATED:20250827T185232Z
LAST-MODIFIED:20250827T185232Z
UID:10000142-1757059200-1757091600@indianawildlife.org
SUMMARY:2025 INASLA Annual Conference on Landscape Architecture
DESCRIPTION:IWF will be speaking on how nonprofits are promoting native plants in architectural deployment. \n  \n07b4edbe06c84a91a65602ecbe798ef6.pdf \n 
URL:https://indianawildlife.org/event/2025-inasla-annual-conference-on-landscape-architecture/
LOCATION:Purdue University\, 128 Memorial Mall\, West Lafyette\, 47907\, United States
CATEGORIES:Partner Event,Workshop
GEO:40.4250016;-86.9127878
X-APPLE-STRUCTURED-LOCATION;VALUE=URI;X-ADDRESS=Purdue University 128 Memorial Mall West Lafyette 47907 United States;X-APPLE-RADIUS=500;X-TITLE=128 Memorial Mall:geo:-86.9127878,40.4250016
END:VEVENT
END:VCALENDAR