BEGIN:VCALENDAR
VERSION:2.0
PRODID:-//Indiana Wildlife Federation - ECPv6.15.20//NONSGML v1.0//EN
CALSCALE:GREGORIAN
METHOD:PUBLISH
X-WR-CALNAME:Indiana Wildlife Federation
X-ORIGINAL-URL:https://indianawildlife.org
X-WR-CALDESC:Events for Indiana Wildlife Federation
REFRESH-INTERVAL;VALUE=DURATION:PT1H
X-Robots-Tag:noindex
X-PUBLISHED-TTL:PT1H
BEGIN:VTIMEZONE
TZID:UTC
BEGIN:STANDARD
TZOFFSETFROM:+0000
TZOFFSETTO:+0000
TZNAME:UTC
DTSTART:20240101T000000
END:STANDARD
END:VTIMEZONE
BEGIN:VEVENT
DTSTART;TZID=UTC:20250913T110000
DTEND;TZID=UTC:20250913T160000
DTSTAMP:20260422T110531
CREATED:20250827T132219Z
LAST-MODIFIED:20250908T183923Z
UID:10000140-1757761200-1757779200@indianawildlife.org
SUMMARY:Monarch Festival at Little Rivers Wetlands Project
DESCRIPTION:Monarch Festival\nThe Little River Wetlands Project announces its annual Monarch Festival to be held on Saturday\, September 13\, 2025\, from 11:00 p.m. to 4:00 p.m. at the Eagle Marsh Nature Preserve barn\, located at 6801 Engle Road\, Fort Wayne. \nThis family-friendly event is open to the public. Adults are $3. Children and LRWP members are free. \nCelebrate the incredible lifecycle and transformation of monarch butterflies through a variety of engaging programs and activities: \n\n\nLive Monarch Displays: Observe monarchs at different stages of their life cycle \n\n\nButterfly Tagging: Participate in tagging monarch butterflies before their release \n\n\nEducational Presentations: Enjoy learning stations and hands-on activities for all ages \n\n\nPlant Giveaway: Take home milkweed\, the only plant on which monarchs lay eggs \n\n\nLocal Projects: Learn about local efforts to support native pollinators from our community partners
URL:https://indianawildlife.org/event/monarch-festival-at-little-rivers-wetlands-project/
LOCATION:Eagle River Marsh\, 6801 Engle Road\, Fort Wayne\, IN\, 46804\, United States
CATEGORIES:Monarch
GEO:41.0377327;-85.2264547
X-APPLE-STRUCTURED-LOCATION;VALUE=URI;X-ADDRESS=Eagle River Marsh 6801 Engle Road Fort Wayne IN 46804 United States;X-APPLE-RADIUS=500;X-TITLE=6801 Engle Road:geo:-85.2264547,41.0377327
END:VEVENT
BEGIN:VEVENT
DTSTART;TZID=UTC:20250913T180000
DTEND;TZID=UTC:20250913T193000
DTSTAMP:20260422T110531
CREATED:20250821T175726Z
LAST-MODIFIED:20250910T181431Z
UID:10000135-1757786400-1757791800@indianawildlife.org
SUMMARY:Monarch Tagging - Urban Wilderness Trail
DESCRIPTION:We will meet on the back patio of the National Institute for Fitness and Sport (NIFS) before walking down to the Urban Wilderness Trail. Long pants and closed toed shoes are recommended. This event will not take place if there is rain to ensure the safety of the butterflies.
URL:https://indianawildlife.org/event/monarch-tagging-urban-wilderness-trail-3/
LOCATION:Urban Wilderness Trail\, 250 University Blvd\, Indianapolis\, IN\, United States
GEO:39.7693217;-86.1743384
X-APPLE-STRUCTURED-LOCATION;VALUE=URI;X-ADDRESS=Urban Wilderness Trail 250 University Blvd Indianapolis IN United States;X-APPLE-RADIUS=500;X-TITLE=250 University Blvd:geo:-86.1743384,39.7693217
END:VEVENT
END:VCALENDAR