BEGIN:VCALENDAR
VERSION:2.0
PRODID:-//Indiana Wildlife Federation - ECPv6.15.20//NONSGML v1.0//EN
CALSCALE:GREGORIAN
METHOD:PUBLISH
X-ORIGINAL-URL:https://indianawildlife.org
X-WR-CALDESC:Events for Indiana Wildlife Federation
REFRESH-INTERVAL;VALUE=DURATION:PT1H
X-Robots-Tag:noindex
X-PUBLISHED-TTL:PT1H
BEGIN:VTIMEZONE
TZID:UTC
BEGIN:STANDARD
TZOFFSETFROM:+0000
TZOFFSETTO:+0000
TZNAME:UTC
DTSTART:20240101T000000
END:STANDARD
END:VTIMEZONE
BEGIN:VEVENT
DTSTART;TZID=UTC:20250927T180000
DTEND;TZID=UTC:20250927T193000
DTSTAMP:20260422T110821
CREATED:20250821T181154Z
LAST-MODIFIED:20250917T193336Z
UID:10000138-1758996000-1759001400@indianawildlife.org
SUMMARY:Monarch Tagging - Betley Woods at Glacier's End
DESCRIPTION:Join us at Betley Woods for a monarch tagging. We will have the opportunity to explore this amazing CILTI property during our tagging. Long pants and closed toed shoes are recommended. This event will not take place in the rain in order to ensure the safety of the butterflies. \n  \nThis event is free\, but registration is still requested. You can find our event on Eventbrite HERE.
URL:https://indianawildlife.org/event/monarch-tagging-betley-woods-at-glaciers-end/
LOCATION:Betely Woods\, Trafalgar\, IN\, United States
GEO:39.4161604;-86.150823
END:VEVENT
END:VCALENDAR