BEGIN:VCALENDAR
VERSION:2.0
PRODID:-//Indiana Wildlife Federation - ECPv6.15.20//NONSGML v1.0//EN
CALSCALE:GREGORIAN
METHOD:PUBLISH
X-WR-CALNAME:Indiana Wildlife Federation
X-ORIGINAL-URL:https://indianawildlife.org
X-WR-CALDESC:Events for Indiana Wildlife Federation
REFRESH-INTERVAL;VALUE=DURATION:PT1H
X-Robots-Tag:noindex
X-PUBLISHED-TTL:PT1H
BEGIN:VTIMEZONE
TZID:UTC
BEGIN:STANDARD
TZOFFSETFROM:+0000
TZOFFSETTO:+0000
TZNAME:UTC
DTSTART:20230101T000000
END:STANDARD
END:VTIMEZONE
BEGIN:VEVENT
DTSTART;TZID=UTC:20240330T110000
DTEND;TZID=UTC:20240330T143000
DTSTAMP:20260419T135706
CREATED:20240318T175019Z
LAST-MODIFIED:20240318T195600Z
UID:10000073-1711796400-1711809000@indianawildlife.org
SUMMARY:Belmont Beach Weed Wrangle and Cleanup
DESCRIPTION:Join the Indiana Wildlife Federation and our partners for a day of impact at Belmont Beach (2020 N White River Pkwy Dr W\, Indianapolis\, IN 46202). This amazing location along the banks of the White River in the Haughville neighborhood of Indianapolis is being transformed back to its glory days. With the leadership from the Friends of Belmont Beach this historic swimming hole is being revitalized. We will help by removing invasive plants and picking up litter in preparation for the Beach’s reopening this Spring! If you’re new to invasive plant removal or an old pro\, we want you here. Snacks\, tools and gloves will be provided as well as lots of guidance and comradery! Meet at the Beach at 11:00 a.m.\, work for several hours and finish the day with some history of Belmont Beach as well as a short nature hike through a magical piece of Indianapolis. Email workday@indianawildlife.org  to RSVP. Additional details will be sent to those who sign up!  \n 
URL:https://indianawildlife.org/event/belmont-beach-weed-wrangle-and-cleanup/
LOCATION:Belmont Beach\, 2020 N White River Pkwy Dr W\, Indianapolis\, IN\, 46202\, United States
CATEGORIES:IWF Event,Partner Event,Volunteer
GEO:39.7864316;-86.1963069
X-APPLE-STRUCTURED-LOCATION;VALUE=URI;X-ADDRESS=Belmont Beach 2020 N White River Pkwy Dr W Indianapolis IN 46202 United States;X-APPLE-RADIUS=500;X-TITLE=2020 N White River Pkwy Dr W:geo:-86.1963069,39.7864316
END:VEVENT
END:VCALENDAR