BEGIN:VCALENDAR
VERSION:2.0
PRODID:-//Indiana Wildlife Federation - ECPv6.15.20//NONSGML v1.0//EN
CALSCALE:GREGORIAN
METHOD:PUBLISH
X-ORIGINAL-URL:https://indianawildlife.org
X-WR-CALDESC:Events for Indiana Wildlife Federation
REFRESH-INTERVAL;VALUE=DURATION:PT1H
X-Robots-Tag:noindex
X-PUBLISHED-TTL:PT1H
BEGIN:VTIMEZONE
TZID:UTC
BEGIN:STANDARD
TZOFFSETFROM:+0000
TZOFFSETTO:+0000
TZNAME:UTC
DTSTART:20200101T000000
END:STANDARD
END:VTIMEZONE
BEGIN:VEVENT
DTSTART;TZID=UTC:20210911T180000
DTEND;TZID=UTC:20210911T193000
DTSTAMP:20260421T215625
CREATED:20210820T175316Z
LAST-MODIFIED:20210823T201246Z
UID:10000023-1631383200-1631388600@indianawildlife.org
SUMMARY:Urban Wilderness Trail Monarch Tagging
DESCRIPTION:We will meet on the patio of the National Institute for Fitness and Sport before proceeding down to the trail proper. \nThe Indiana Wildlife Federation (IWF) routinely hosts Monarch Tagging events as a tool to educate both youth and adults about the unique\, fragile and wonderous life cycle of the Monarch Butterfly (Danaus plexippus). At these events\, we train learners to gently capture monarch butterflies in butterfly nets and affix a small numbered sticker to the hindwing. These events can happen at any outdoor location where monarchs are routinely present. Stickers and datasheets are ordered through the international monarch monitoring program called Monarch Watch. We hope to see you at a tagging!
URL:https://indianawildlife.org/event/urban-wilderness-trail-monarch-tagging/
LOCATION:Urban Wilderness Trail\, 250 University Blvd\, Indianapolis\, IN\, United States
CATEGORIES:IWF Event,Monarch,Volunteer
ATTACH;FMTTYPE=image/jpeg:https://indianawildlife.org/wp-content/uploads/2021/02/DSC08344.jpeg
GEO:39.7693217;-86.1743384
X-APPLE-STRUCTURED-LOCATION;VALUE=URI;X-ADDRESS=Urban Wilderness Trail 250 University Blvd Indianapolis IN United States;X-APPLE-RADIUS=500;X-TITLE=250 University Blvd:geo:-86.1743384,39.7693217
END:VEVENT
END:VCALENDAR