BEGIN:VCALENDAR
VERSION:2.0
PRODID:-//Indiana Wildlife Federation - ECPv6.15.20//NONSGML v1.0//EN
CALSCALE:GREGORIAN
METHOD:PUBLISH
X-ORIGINAL-URL:https://indianawildlife.org
X-WR-CALDESC:Events for Indiana Wildlife Federation
REFRESH-INTERVAL;VALUE=DURATION:PT1H
X-Robots-Tag:noindex
X-PUBLISHED-TTL:PT1H
BEGIN:VTIMEZONE
TZID:UTC
BEGIN:STANDARD
TZOFFSETFROM:+0000
TZOFFSETTO:+0000
TZNAME:UTC
DTSTART:20200101T000000
END:STANDARD
END:VTIMEZONE
BEGIN:VEVENT
DTSTART;TZID=UTC:20210918T180000
DTEND;TZID=UTC:20210918T193000
DTSTAMP:20260421T202211
CREATED:20210820T180502Z
LAST-MODIFIED:20210823T200923Z
UID:10000024-1631988000-1631993400@indianawildlife.org
SUMMARY:Tryon Farm Monarch Tagging
DESCRIPTION:The Indiana Wildlife Federation (IWF) routinely hosts Monarch Tagging events as a tool to educate both youth and adults about the unique\, fragile and wonderous life cycle of the Monarch Butterfly (Danaus plexippus). At these events\, we train learners to gently capture monarch butterflies in butterfly nets and affix a small numbered sticker to the hindwing. These events can happen at any outdoor location where monarchs are routinely present. Stickers and datasheets are ordered through the international monarch monitoring program called Monarch Watch. We hope to see you at a tagging!
URL:https://indianawildlife.org/event/tryon-farm-monarch-tagging/
LOCATION:IN
CATEGORIES:IWF Event,Monarch,Volunteer
ATTACH;FMTTYPE=image/jpeg:https://indianawildlife.org/wp-content/uploads/2021/02/monarch-tag.jpg
END:VEVENT
END:VCALENDAR