BEGIN:VCALENDAR
VERSION:2.0
PRODID:-//Indiana Wildlife Federation - ECPv6.15.20//NONSGML v1.0//EN
CALSCALE:GREGORIAN
METHOD:PUBLISH
X-ORIGINAL-URL:https://indianawildlife.org
X-WR-CALDESC:Events for Indiana Wildlife Federation
REFRESH-INTERVAL;VALUE=DURATION:PT1H
X-Robots-Tag:noindex
X-PUBLISHED-TTL:PT1H
BEGIN:VTIMEZONE
TZID:UTC
BEGIN:STANDARD
TZOFFSETFROM:+0000
TZOFFSETTO:+0000
TZNAME:UTC
DTSTART:20210101T000000
END:STANDARD
END:VTIMEZONE
BEGIN:VEVENT
DTSTART;TZID=UTC:20220430T110000
DTEND;TZID=UTC:20220430T140000
DTSTAMP:20260420T102814
CREATED:20220218T210749Z
LAST-MODIFIED:20220224T181200Z
UID:10000038-1651316400-1651327200@indianawildlife.org
SUMMARY:Pollinator Day Presentations
DESCRIPTION:Certified Wildlife Habitat Workshop presented at 11:15am and 1:15pm.
URL:https://indianawildlife.org/event/pollinator-day-presentations-2/
LOCATION:Floyd Co Purdue Extension\, 3000 Technology Avenue\, Ste. L2110\, New Albany\, IN\, 47150
CATEGORIES:IWF Event,Workshop
ATTACH;FMTTYPE=image/jpeg:https://indianawildlife.org/wp-content/uploads/2021/11/bee-1-scaled-e1637697532767.jpeg
GEO:38.3387259;-85.7987877
X-APPLE-STRUCTURED-LOCATION;VALUE=URI;X-ADDRESS=Floyd Co Purdue Extension 3000 Technology Avenue Ste. L2110 New Albany IN 47150;X-APPLE-RADIUS=500;X-TITLE=3000 Technology Avenue\, Ste. L2110:geo:-85.7987877,38.3387259
END:VEVENT
BEGIN:VEVENT
DTSTART;TZID=UTC:20220430T130000
DTEND;TZID=UTC:20220430T140000
DTSTAMP:20260420T102814
CREATED:20220218T210211Z
LAST-MODIFIED:20220224T181043Z
UID:10000036-1651323600-1651327200@indianawildlife.org
SUMMARY:Elkhart Conservation Club Presentation
DESCRIPTION:Certified Wildlife Habitat Workshop
URL:https://indianawildlife.org/event/pollinator-day-presentations/
LOCATION:Elkhart Conservation Club\, 55515 Riviera Dr\, Elkhart\, IN\, 46514
CATEGORIES:IWF Event,Partner Event,Workshop
GEO:41.6879733;-86.0416536
X-APPLE-STRUCTURED-LOCATION;VALUE=URI;X-ADDRESS=Elkhart Conservation Club 55515 Riviera Dr Elkhart IN 46514;X-APPLE-RADIUS=500;X-TITLE=55515 Riviera Dr:geo:-86.0416536,41.6879733
END:VEVENT
END:VCALENDAR