BEGIN:VCALENDAR
VERSION:2.0
PRODID:-//Indiana Wildlife Federation - ECPv6.15.20//NONSGML v1.0//EN
CALSCALE:GREGORIAN
METHOD:PUBLISH
X-WR-CALNAME:Indiana Wildlife Federation
X-ORIGINAL-URL:https://indianawildlife.org
X-WR-CALDESC:Events for Indiana Wildlife Federation
REFRESH-INTERVAL;VALUE=DURATION:PT1H
X-Robots-Tag:noindex
X-PUBLISHED-TTL:PT1H
BEGIN:VTIMEZONE
TZID:UTC
BEGIN:STANDARD
TZOFFSETFROM:+0000
TZOFFSETTO:+0000
TZNAME:UTC
DTSTART:20200101T000000
END:STANDARD
END:VTIMEZONE
BEGIN:VEVENT
DTSTART;TZID=UTC:20210130T093000
DTEND;TZID=UTC:20210130T113000
DTSTAMP:20260423T012228
CREATED:20201222T183656Z
LAST-MODIFIED:20210105T184208Z
UID:10000004-1611999000-1612006200@indianawildlife.org
SUMMARY:2021 Indiana Wildlife Virtual Conference
DESCRIPTION:This year our annual Indiana Wildlife Conference will be held via zoom. We are excited to host the National Wildlife Federation’s President and CEO\, Collin O’Mara as our keynote. Join us for exciting updates\, a silent auction and more! Registration
URL:https://indianawildlife.org/event/2021-indiana-wildlife-virtual-conference/
LOCATION:Virtual
CATEGORIES:IWF Event
ATTACH;FMTTYPE=image/jpeg:https://indianawildlife.org/wp-content/uploads/2020/12/CollinOMara_NWF_420x210.jpg
END:VEVENT
END:VCALENDAR