BEGIN:VCALENDAR
VERSION:2.0
PRODID:-//Indiana Wildlife Federation - ECPv6.15.20//NONSGML v1.0//EN
CALSCALE:GREGORIAN
METHOD:PUBLISH
X-WR-CALNAME:Indiana Wildlife Federation
X-ORIGINAL-URL:https://indianawildlife.org
X-WR-CALDESC:Events for Indiana Wildlife Federation
REFRESH-INTERVAL;VALUE=DURATION:PT1H
X-Robots-Tag:noindex
X-PUBLISHED-TTL:PT1H
BEGIN:VTIMEZONE
TZID:UTC
BEGIN:STANDARD
TZOFFSETFROM:+0000
TZOFFSETTO:+0000
TZNAME:UTC
DTSTART:20200101T000000
END:STANDARD
END:VTIMEZONE
BEGIN:VEVENT
DTSTART;TZID=UTC:20211005T150000
DTEND;TZID=UTC:20211005T170000
DTSTAMP:20260424T003350
CREATED:20210921T141448Z
LAST-MODIFIED:20210921T141520Z
UID:10000029-1633446000-1633453200@indianawildlife.org
SUMMARY:PARTNER EVENT - Indiana Wetlands II: Where are we now? Virtual Forum
DESCRIPTION:Much has happened since the first co-hosted forum with IWF Affiliate: White River Alliance and Purdue in February. First\, the passage of SEA 389. This was followed by the establishment of Governor Holcomb’s Wetland Taskforce. \nThe repeal of the Navigable Waters Protection Rule\, a 2020 rule that narrowed the definition of “Waters of the United States (WOTUS)” which left isolated wetlands and ephemeral streams at risk. In this follow up forum\, researchers from several Indiana universities join with environmental management professionals and policy experts to discuss wetland hydrology and ecology\, how wetland footprints are affected by changing legislation\, and how resulting ecosystem services are lost or gained.  The speakers will also address recent legislation and identify future management issues. \nRegistration required. Register here.\nPlatform: WebEx
URL:https://indianawildlife.org/event/partner-event-indiana-wetlands-ii-where-are-we-now-virtual-forum/
LOCATION:Virtual
CATEGORIES:IWF Event,Partner Event
ATTACH;FMTTYPE=image/jpeg:https://indianawildlife.org/wp-content/uploads/2021/09/Gressley_BCSP5-scaled.jpg
END:VEVENT
BEGIN:VEVENT
DTSTART;TZID=UTC:20211020T160000
DTEND;TZID=UTC:20211020T170000
DTSTAMP:20260424T003350
CREATED:20211004T165705Z
LAST-MODIFIED:20211004T165705Z
UID:10000031-1634745600-1634749200@indianawildlife.org
SUMMARY:Indiana Wetland Advocacy\, Preservation\, and Restoration
DESCRIPTION:This year\, the Indiana General Assembly passed SEA 389\, which significantly reduced protection for Indiana’s remaining wetlands.  It was a blow to all who understand the vital importance of wetlands to water resources and to wildlife\, but it was not an endpoint.  There is much we can still do ensure the continuation of Indiana’s wetlands.  The Hoosier Environmental Council and Indiana Wildlife Federation are hosting a webinar to review steps we can all take.   \nPlease join us for ‘Indiana Wetland Advocacy\, Preservation\, and Restoration’ Wednesday\, October 20\, at 4:00 PM Eastern/3:00 PM Central.  Register at:   tinyurl.com/3pzvc379 \n 
URL:https://indianawildlife.org/event/indiana-wetland-advocacy-preservation-and-restoration/
LOCATION:Virtual
CATEGORIES:IWF Event,Online/Social Media,Partner Event,Workshop
ATTACH;FMTTYPE=image/png:https://indianawildlife.org/wp-content/uploads/2021/10/Oct-20-Wetlands_FB-Cover.png
ORGANIZER;CN="Hoosier Environmental Council%2C (HEC)":MAILTO:comments@hecweb.org
END:VEVENT
BEGIN:VEVENT
DTSTART;TZID=UTC:20211023T090000
DTEND;TZID=UTC:20211023T120000
DTSTAMP:20260424T003350
CREATED:20210922T171024Z
LAST-MODIFIED:20210922T171025Z
UID:10000030-1634979600-1634990400@indianawildlife.org
SUMMARY:Weed Wrangle: Sodalis Park
DESCRIPTION:Volunteers needed: Join us in another Weed Wrangle where we will be removing invasive bush honeysuckle. Volunteers should bring gloves and either a hand saw or loppers. IWF and the City of Plainfield will provide some additional hand tools for those not able to bring one. \nPlease RSVP to Tom Hohman if you are planning on attending: hohmantr@aol.com
URL:https://indianawildlife.org/event/weed-wrangle-sodalis-park/
LOCATION:Sodalis Nature Park\, 7700 S County Road 975E\, Plainfield\, IN\, 46168\, United States
CATEGORIES:IWF Event,Partner Event,Volunteer
ATTACH;FMTTYPE=image/jpeg:https://indianawildlife.org/wp-content/uploads/2021/09/sodalis.jpg
GEO:39.6500745;-86.3489621
X-APPLE-STRUCTURED-LOCATION;VALUE=URI;X-ADDRESS=Sodalis Nature Park 7700 S County Road 975E Plainfield IN 46168 United States;X-APPLE-RADIUS=500;X-TITLE=7700 S County Road 975E:geo:-86.3489621,39.6500745
END:VEVENT
BEGIN:VEVENT
DTSTART;TZID=UTC:20211027T180000
DTEND;TZID=UTC:20211027T180000
DTSTAMP:20260424T003350
CREATED:20211021T171533Z
LAST-MODIFIED:20211021T172043Z
UID:10000033-1635357600-1635357600@indianawildlife.org
SUMMARY:PARTNER EVENT: Clean Economy Coalition of Color
DESCRIPTION:The National Wildlife Federation environmental justice team would like to cordially invite you to join us for our fourth Clean Economy Coalition of Color (CECC) convening on Wednesday\, October 27th from 6:00pm – 7:30pmEST. Please register for the zoom webinar here. We look forward to discussing how clean energy tax credits and the Build Back Better agenda can serve communities of color. Featured panel participants include: \n\nTheresa Cardenas\, Civic Engagement & Policy Manager\, New Mexico First\nDana Johnson\, Senior Director of Strategy and Federal Policy Office\, WE ACT for Environmental Justice\n\nThe CECC is an alliance of some of the nation’s most insightful Black\, Latinx\, Indigenous\, Asian\, and Pacific Islander leaders and advocates of color that are committed to amplifying ideas\, recommendations\, and solutions that uplift the priorities and economic interests of historically marginalized communities by guiding clean energy economy policies and implementation. The environmental justice team hopes to uplift equitable policies to inform decision-makers\, share resources to build capacity among CECC member organizations\, unpack legislation and policies that impact our communities\, and highlight leaders of color that are currently operating in the clean economy to share best practices and lessons learned.
URL:https://indianawildlife.org/event/partner-event-clean-economy-coalition-of-color/
LOCATION:Virtual
CATEGORIES:IWF Event,Online/Social Media,Partner Event,Workshop
ATTACH;FMTTYPE=image/png:https://indianawildlife.org/wp-content/uploads/2021/10/CECC_V2.png
END:VEVENT
END:VCALENDAR