BEGIN:VCALENDAR
VERSION:2.0
PRODID:-//Indiana Wildlife Federation - ECPv6.15.20//NONSGML v1.0//EN
CALSCALE:GREGORIAN
METHOD:PUBLISH
X-ORIGINAL-URL:https://indianawildlife.org
X-WR-CALDESC:Events for Indiana Wildlife Federation
REFRESH-INTERVAL;VALUE=DURATION:PT1H
X-Robots-Tag:noindex
X-PUBLISHED-TTL:PT1H
BEGIN:VTIMEZONE
TZID:UTC
BEGIN:STANDARD
TZOFFSETFROM:+0000
TZOFFSETTO:+0000
TZNAME:UTC
DTSTART:20230101T000000
END:STANDARD
END:VTIMEZONE
BEGIN:VEVENT
DTSTART;TZID=UTC:20240501T170000
DTEND;TZID=UTC:20240501T183000
DTSTAMP:20260420T102836
CREATED:20240423T172707Z
LAST-MODIFIED:20240423T172707Z
UID:10000106-1714582800-1714588200@indianawildlife.org
SUMMARY:PFAS and Safe\, Affordable Water For All Webinar
DESCRIPTION:May 1\, 5:30-6:30pm ET \nSafe\, Affordable Water for All: Drawing Connections Between PFAS Contamination and Water Affordability \nRegister Here \n\nJoin us for an important discussion led by distinguished experts in the field exploring the critical intersection of water quality and affordability. Panelists include: \n\nRebecca Meuninck – National Wildlife Federation’s Great Lakes Regional Executive Director\nMonica Lewis-Patrick – President and co-founder of We the People of Detroit\nCathy Wusterbarth – Co-founder of Need Our Water\n\nThe panel will delve into the pressing issues of water contamination and the growing challenge of unaffordable water access in communities across the nation. Our panelists will share their firsthand experiences\, breaking down the complexities of these issues and offering actionable guidance for change. From grassroots initiatives to large-scale coalitions\, discover how organizations like the Great Lakes PFAS Action Network and the Water Equals Life Coalition are spearheading policy actions aimed at ensuring safe\, affordable water for all.
URL:https://indianawildlife.org/event/pfas-and-safe-affordable-water-for-all-webinar/
LOCATION:Online
CATEGORIES:Online/Social Media,Workshop
END:VEVENT
BEGIN:VEVENT
DTSTART;VALUE=DATE:20240505
DTEND;VALUE=DATE:20240506
DTSTAMP:20260420T102836
CREATED:20230724T131744Z
LAST-MODIFIED:20230724T132133Z
UID:10000066-1714867200-1714953599@indianawildlife.org
SUMMARY:Going Green in the Grove
DESCRIPTION:
URL:https://indianawildlife.org/event/going-green-in-the-grove/
LOCATION:Hornet Park\, 5245 Hornet Avenue\, Beech Grove\, IN\, 46107\, United States
GEO:39.7102844;-86.0795312
X-APPLE-STRUCTURED-LOCATION;VALUE=URI;X-ADDRESS=Hornet Park 5245 Hornet Avenue Beech Grove IN 46107 United States;X-APPLE-RADIUS=500;X-TITLE=5245 Hornet Avenue:geo:-86.0795312,39.7102844
END:VEVENT
BEGIN:VEVENT
DTSTART;TZID=UTC:20240510T094500
DTEND;TZID=UTC:20240510T124500
DTSTAMP:20260420T102836
CREATED:20240509T141807Z
LAST-MODIFIED:20240509T141934Z
UID:10000107-1715334300-1715345100@indianawildlife.org
SUMMARY:Conner Prairie Invasive Removal with Fishers Schools
DESCRIPTION:We will be removing honeysuckle and garlic mustard with Fishers High and Junior High Schools.
URL:https://indianawildlife.org/event/conner-prairie-invasive-removal-with-fishers-schools/
LOCATION:Conner Prarie\, 13400 Allisonville Rd\, Fishers\, IN\, 46038\, United States
GEO:39.9845083;-86.0288171
X-APPLE-STRUCTURED-LOCATION;VALUE=URI;X-ADDRESS=Conner Prarie 13400 Allisonville Rd Fishers IN 46038 United States;X-APPLE-RADIUS=500;X-TITLE=13400 Allisonville Rd:geo:-86.0288171,39.9845083
END:VEVENT
BEGIN:VEVENT
DTSTART;TZID=UTC:20240511T140000
DTEND;TZID=UTC:20240511T150000
DTSTAMP:20260420T102836
CREATED:20240416T130007Z
LAST-MODIFIED:20240416T130007Z
UID:10000103-1715436000-1715439600@indianawildlife.org
SUMMARY:Elkhart Environmental Center - Garden for Wildlife Workshop
DESCRIPTION:
URL:https://indianawildlife.org/event/elkhart-environmental-center-garden-for-wildlife-workshop/
LOCATION:Elkhart Environmental Center\, 1717 E Lusher Ave\, Elkhart\, IN\, 46516\, United States
GEO:41.6663178;-85.9439277
X-APPLE-STRUCTURED-LOCATION;VALUE=URI;X-ADDRESS=Elkhart Environmental Center 1717 E Lusher Ave Elkhart IN 46516 United States;X-APPLE-RADIUS=500;X-TITLE=1717 E Lusher Ave:geo:-85.9439277,41.6663178
END:VEVENT
END:VCALENDAR