BEGIN:VCALENDAR
VERSION:2.0
PRODID:-//Indiana Wildlife Federation - ECPv6.15.20//NONSGML v1.0//EN
CALSCALE:GREGORIAN
METHOD:PUBLISH
X-ORIGINAL-URL:https://indianawildlife.org
X-WR-CALDESC:Events for Indiana Wildlife Federation
REFRESH-INTERVAL;VALUE=DURATION:PT1H
X-Robots-Tag:noindex
X-PUBLISHED-TTL:PT1H
BEGIN:VTIMEZONE
TZID:UTC
BEGIN:STANDARD
TZOFFSETFROM:+0000
TZOFFSETTO:+0000
TZNAME:UTC
DTSTART:20240101T000000
END:STANDARD
END:VTIMEZONE
BEGIN:VEVENT
DTSTART;TZID=UTC:20250128T090000
DTEND;TZID=UTC:20250128T150000
DTSTAMP:20260420T102838
CREATED:20250122T203744Z
LAST-MODIFIED:20250122T203744Z
UID:10000117-1738054800-1738076400@indianawildlife.org
SUMMARY:Water Stewardship Day
DESCRIPTION:Join Indiana Conservation Voters (ICV) for a day of advocacy and action as we come together to champion responsible water stewardship in Indiana!\n\n\nYou will have the opportunity to meet with your legislators\, hear from expert speakers\, and engage in hands-on activities focused on preserving our vital water systems. A complimentary lunch will be provided and we encourage all participants to lend their voice and expertise in support of this important cause.\n\n\nLet’s unite as Hoosier water stewards! Register Here\n\nLegislator conversations • Expert speakers • Hands-on activities • Complimentary lunch
URL:https://indianawildlife.org/event/water-stewardship-day/
LOCATION:Indiana Statehouse\, 200 W Washington St\, Indianapolis\, IN\, 46204\, United States
GEO:39.7687106;-86.1628562
X-APPLE-STRUCTURED-LOCATION;VALUE=URI;X-ADDRESS=Indiana Statehouse 200 W Washington St Indianapolis IN 46204 United States;X-APPLE-RADIUS=500;X-TITLE=200 W Washington St:geo:-86.1628562,39.7687106
END:VEVENT
END:VCALENDAR