BEGIN:VCALENDAR
VERSION:2.0
PRODID:-//Indiana Wildlife Federation - ECPv6.15.20//NONSGML v1.0//EN
CALSCALE:GREGORIAN
METHOD:PUBLISH
X-ORIGINAL-URL:https://indianawildlife.org
X-WR-CALDESC:Events for Indiana Wildlife Federation
REFRESH-INTERVAL;VALUE=DURATION:PT1H
X-Robots-Tag:noindex
X-PUBLISHED-TTL:PT1H
BEGIN:VTIMEZONE
TZID:UTC
BEGIN:STANDARD
TZOFFSETFROM:+0000
TZOFFSETTO:+0000
TZNAME:UTC
DTSTART:20230101T000000
END:STANDARD
END:VTIMEZONE
BEGIN:VEVENT
DTSTART;TZID=UTC:20240420T120000
DTEND;TZID=UTC:20240420T153000
DTSTAMP:20260424T012829
CREATED:20240403T173413Z
LAST-MODIFIED:20240403T173413Z
UID:10000101-1713614400-1713627000@indianawildlife.org
SUMMARY:Earth Day at Conner Prairie
DESCRIPTION:Honor Earth Day at Conner Prairie with nature-focused programs along the Trails. Meet community members focused on nature and conservation\, take guided strolls along the trails with Conner Prairie staff\, and engage in playful invitations to connect with our beautiful planet. This event is included with daily admission ticket.  \n12:00 – 2:00 p.m. Community presentations and play invitations\n12:30 – 1:30 p.m. Guided Nature Walk\n1:30 – 2:30 p.m. Walk and Learn: Invasive plants of Indiana\n2:00 – 3:00 p.m. Guided Nature Walk\nAll programs meet at the Trailhead behind the Symphony Bowl.\nLearn more about the Trails at Conner Prairie.
URL:https://indianawildlife.org/event/earth-day-at-conner-prairie/
LOCATION:Conner Prarie\, 13400 Allisonville Rd\, Fishers\, IN\, 46038\, United States
GEO:39.9845083;-86.0288171
X-APPLE-STRUCTURED-LOCATION;VALUE=URI;X-ADDRESS=Conner Prarie 13400 Allisonville Rd Fishers IN 46038 United States;X-APPLE-RADIUS=500;X-TITLE=13400 Allisonville Rd:geo:-86.0288171,39.9845083
END:VEVENT
END:VCALENDAR