BEGIN:VCALENDAR
VERSION:2.0
PRODID:-//Indiana Wildlife Federation - ECPv6.15.20//NONSGML v1.0//EN
CALSCALE:GREGORIAN
METHOD:PUBLISH
X-WR-CALNAME:Indiana Wildlife Federation
X-ORIGINAL-URL:https://indianawildlife.org
X-WR-CALDESC:Events for Indiana Wildlife Federation
REFRESH-INTERVAL;VALUE=DURATION:PT1H
X-Robots-Tag:noindex
X-PUBLISHED-TTL:PT1H
BEGIN:VTIMEZONE
TZID:UTC
BEGIN:STANDARD
TZOFFSETFROM:+0000
TZOFFSETTO:+0000
TZNAME:UTC
DTSTART:20230101T000000
END:STANDARD
END:VTIMEZONE
BEGIN:VEVENT
DTSTART;TZID=UTC:20241025T130000
DTEND;TZID=UTC:20241025T150000
DTSTAMP:20260420T141509
CREATED:20240926T161326Z
LAST-MODIFIED:20240926T161326Z
UID:10000113-1729861200-1729868400@indianawildlife.org
SUMMARY:INPS Nature Hike at Conner Prairie
DESCRIPTION:This event is for INPS Conference Attendees. Join IWF and Conner Prairie as we take a nature hike on the newly opened R. B. Annis Trail\, a Certified Sustainable Trail.
URL:https://indianawildlife.org/event/inps-nature-hike-at-conner-prairie/
LOCATION:Conner Prarie\, 13400 Allisonville Rd\, Fishers\, IN\, 46038\, United States
GEO:39.9845083;-86.0288171
X-APPLE-STRUCTURED-LOCATION;VALUE=URI;X-ADDRESS=Conner Prarie 13400 Allisonville Rd Fishers IN 46038 United States;X-APPLE-RADIUS=500;X-TITLE=13400 Allisonville Rd:geo:-86.0288171,39.9845083
END:VEVENT
BEGIN:VEVENT
DTSTART;TZID=UTC:20240613T170000
DTEND;TZID=UTC:20240613T200000
DTSTAMP:20260420T141509
CREATED:20240416T235447Z
LAST-MODIFIED:20240423T173013Z
UID:10000105-1718298000-1718308800@indianawildlife.org
SUMMARY:Cranes Over Indiana a IWF Member Gathering
DESCRIPTION:An evening with Lauren Benedict\, International Crane Foundation\, learning about Indiana’s conservation of Sandhill and Whooping Cranes. \n \nJoin us after work for a casual gathering with food/beverages\, comradery\, music\, and a presentation from the International Crane Foundation about Indiana’s role in protecting our migrating cranes and their habitats. \nCranes over Indiana: Indiana’s wetlands are home to Sandhill Cranes and endangered Whooping Cranes. In the not-so-distant past\, both Sandhill Cranes and Whooping Cranes faced near extinction throughout North America as they battled with increasing threats of unregulated hunting and habitat loss. Thanks to widespread conservation efforts\, Sandhill Cranes are now one of the most populous crane species in the world\, and Whooping Crane populations\, while still endangered\, are slowly growing. Today Indiana residents see around 60\,000-80\,000 Sandhill Cranes and 30 Whooping Cranes each year! Unfortunately\, Whooping Cranes and Sandhill Cranes continue to face threats in Indiana and across their flyway. Following this presentation\, you will be able to identify Sandhill Cranes and Whooping Cranes\, know the history of both species\, understand the current work our crane conservation partners are doing to protect cranes in Indiana and throughout their flyways and find out how you can be an ambassador for cranes in Indiana as a volunteer and citizen scientist. \n \n                                       Agenda \n5:00 PM – 5:45 PM\, Welcome + food/beverage + music \n5:45 PM – 6:30 PM\, Cranes Over Indiana with Lauren Benedict\, Outreach Biologist Assistant\, Indiana \n6:30 PM – 8:00 PM\, Music + mingle \nNot an IWF member? Join today! https://indianawildlife.org/membership/membership/ \n  \nThursday\, June 13\, 5-8pm EDT \nConner Prairie\, 13400 Allisonville Road\, Fisher\, IN 46038 \n$15.00 per person \n  \nRegister Today!
URL:https://indianawildlife.org/event/cranes-over-indiana-a-iwf-member-gathering/
LOCATION:Conner Prarie\, 13400 Allisonville Rd\, Fishers\, IN\, 46038\, United States
CATEGORIES:IWF Event,Partner Event
GEO:39.9845083;-86.0288171
X-APPLE-STRUCTURED-LOCATION;VALUE=URI;X-ADDRESS=Conner Prarie 13400 Allisonville Rd Fishers IN 46038 United States;X-APPLE-RADIUS=500;X-TITLE=13400 Allisonville Rd:geo:-86.0288171,39.9845083
END:VEVENT
BEGIN:VEVENT
DTSTART;TZID=UTC:20240510T094500
DTEND;TZID=UTC:20240510T124500
DTSTAMP:20260420T141509
CREATED:20240509T141807Z
LAST-MODIFIED:20240509T141934Z
UID:10000107-1715334300-1715345100@indianawildlife.org
SUMMARY:Conner Prairie Invasive Removal with Fishers Schools
DESCRIPTION:We will be removing honeysuckle and garlic mustard with Fishers High and Junior High Schools.
URL:https://indianawildlife.org/event/conner-prairie-invasive-removal-with-fishers-schools/
LOCATION:Conner Prarie\, 13400 Allisonville Rd\, Fishers\, IN\, 46038\, United States
GEO:39.9845083;-86.0288171
X-APPLE-STRUCTURED-LOCATION;VALUE=URI;X-ADDRESS=Conner Prarie 13400 Allisonville Rd Fishers IN 46038 United States;X-APPLE-RADIUS=500;X-TITLE=13400 Allisonville Rd:geo:-86.0288171,39.9845083
END:VEVENT
BEGIN:VEVENT
DTSTART;TZID=UTC:20240420T120000
DTEND;TZID=UTC:20240420T153000
DTSTAMP:20260420T141509
CREATED:20240403T173413Z
LAST-MODIFIED:20240403T173413Z
UID:10000101-1713614400-1713627000@indianawildlife.org
SUMMARY:Earth Day at Conner Prairie
DESCRIPTION:Honor Earth Day at Conner Prairie with nature-focused programs along the Trails. Meet community members focused on nature and conservation\, take guided strolls along the trails with Conner Prairie staff\, and engage in playful invitations to connect with our beautiful planet. This event is included with daily admission ticket.  \n12:00 – 2:00 p.m. Community presentations and play invitations\n12:30 – 1:30 p.m. Guided Nature Walk\n1:30 – 2:30 p.m. Walk and Learn: Invasive plants of Indiana\n2:00 – 3:00 p.m. Guided Nature Walk\nAll programs meet at the Trailhead behind the Symphony Bowl.\nLearn more about the Trails at Conner Prairie.
URL:https://indianawildlife.org/event/earth-day-at-conner-prairie/
LOCATION:Conner Prarie\, 13400 Allisonville Rd\, Fishers\, IN\, 46038\, United States
GEO:39.9845083;-86.0288171
X-APPLE-STRUCTURED-LOCATION;VALUE=URI;X-ADDRESS=Conner Prarie 13400 Allisonville Rd Fishers IN 46038 United States;X-APPLE-RADIUS=500;X-TITLE=13400 Allisonville Rd:geo:-86.0288171,39.9845083
END:VEVENT
BEGIN:VEVENT
DTSTART;TZID=UTC:20240419T093000
DTEND;TZID=UTC:20240419T110000
DTSTAMP:20260420T141509
CREATED:20240416T125721Z
LAST-MODIFIED:20240416T125721Z
UID:10000102-1713519000-1713524400@indianawildlife.org
SUMMARY:Conner Prairie Trail Ribbon Cutting
DESCRIPTION:
URL:https://indianawildlife.org/event/conner-prairie-trail-ribbon-cutting/
LOCATION:Conner Prarie\, 13400 Allisonville Rd\, Fishers\, IN\, 46038\, United States
GEO:39.9845083;-86.0288171
X-APPLE-STRUCTURED-LOCATION;VALUE=URI;X-ADDRESS=Conner Prarie 13400 Allisonville Rd Fishers IN 46038 United States;X-APPLE-RADIUS=500;X-TITLE=13400 Allisonville Rd:geo:-86.0288171,39.9845083
END:VEVENT
END:VCALENDAR